BEGIN:VCALENDAR
VERSION:2.0
PRODID:-//Harmoni - ECPv6.15.17//NONSGML v1.0//EN
CALSCALE:GREGORIAN
METHOD:PUBLISH
X-WR-CALNAME:Harmoni
X-ORIGINAL-URL:https://harmoni-project.eu
X-WR-CALDESC:Events for Harmoni
REFRESH-INTERVAL;VALUE=DURATION:PT1H
X-Robots-Tag:noindex
X-PUBLISHED-TTL:PT1H
BEGIN:VTIMEZONE
TZID:Europe/Athens
BEGIN:DAYLIGHT
TZOFFSETFROM:+0200
TZOFFSETTO:+0300
TZNAME:EEST
DTSTART:20250330T010000
END:DAYLIGHT
BEGIN:STANDARD
TZOFFSETFROM:+0300
TZOFFSETTO:+0200
TZNAME:EET
DTSTART:20251026T010000
END:STANDARD
BEGIN:DAYLIGHT
TZOFFSETFROM:+0200
TZOFFSETTO:+0300
TZNAME:EEST
DTSTART:20260329T010000
END:DAYLIGHT
BEGIN:STANDARD
TZOFFSETFROM:+0300
TZOFFSETTO:+0200
TZNAME:EET
DTSTART:20261025T010000
END:STANDARD
BEGIN:DAYLIGHT
TZOFFSETFROM:+0200
TZOFFSETTO:+0300
TZNAME:EEST
DTSTART:20270328T010000
END:DAYLIGHT
BEGIN:STANDARD
TZOFFSETFROM:+0300
TZOFFSETTO:+0200
TZNAME:EET
DTSTART:20271031T010000
END:STANDARD
END:VTIMEZONE
BEGIN:VEVENT
DTSTART;VALUE=DATE:20260312
DTEND;VALUE=DATE:20260313
DTSTAMP:20260421T233836
CREATED:20260226T095047Z
LAST-MODIFIED:20260226T095047Z
UID:6372-1773273600-1773359999@harmoni-project.eu
SUMMARY:Flood Risk & Cascading NaTech Effects Roundtable (Romania)
DESCRIPTION:Event Purpose\nThis roundtable explored flood-induced cascading failures affecting transport and industrial infrastructures. \nTopics Discussed\n\nLessons learned from previous flood events\nKnowledge transfer from PARATUS and related initiatives\nEnhancing Standard Operating Procedures (SOPs)\n\nExpert Contributions\nResearchers and practitioners contributed to refining evidence-based flood response protocols. \nImpact\nThe session reinforced the importance of structured knowledge integration within the HARMONI Knowledge Graph backbone.
URL:https://harmoni-project.eu/event/flood-risk-cascading-natech-effects-roundtable-romania/
ATTACH;FMTTYPE=image/jpeg:https://harmoni-project.eu/wp-content/uploads/2024/12/service-details01.jpg
END:VEVENT
BEGIN:VEVENT
DTSTART;VALUE=DATE:20260228
DTEND;VALUE=DATE:20260301
DTSTAMP:20260421T233836
CREATED:20260226T095028Z
LAST-MODIFIED:20260226T095028Z
UID:6370-1772236800-1772323199@harmoni-project.eu
SUMMARY:UAV-SAR Monitoring Demonstration for Earthquake Impact Assessment (Türkiye – Marmara)
DESCRIPTION:Demonstration Overview\nA live demonstration showcased UAV-based SAR monitoring capabilities for rapid industrial damage assessment following seismic activity. \nTechnical Highlights\n\nIntegration of SAR and optical satellite imagery\nNear-real-time damage detection indicators\nInteroperability testing with AFAD-EKA systems\n\nOperational Impact\nThe exercise demonstrated how monitoring data feeds into the HARMONI decision support layer to accelerate informed response actions. \nConclusion\nImproved situational awareness enables faster coordination between national authorities and cross-border partners.
URL:https://harmoni-project.eu/event/uav-sar-monitoring-demonstration-for-earthquake-impact-assessment-turkiye-marmara/
ATTACH;FMTTYPE=image/jpeg:https://harmoni-project.eu/wp-content/uploads/2024/12/service-d.jpg
END:VEVENT
BEGIN:VEVENT
DTSTART;VALUE=DATE:20260226
DTEND;VALUE=DATE:20260227
DTSTAMP:20260421T233836
CREATED:20260226T093918Z
LAST-MODIFIED:20260226T094131Z
UID:6358-1772064000-1772150399@harmoni-project.eu
SUMMARY:HARMONI Kick-Off Meeting – Building the Foundation for Cross-Border NaTech Resilience
DESCRIPTION:Event Overview\nThe official HARMONI Kick-Off Meeting marked the beginning of our collaborative journey to enhance resilience against Natural Hazard Triggering Technological (NaTech) risks across Europe. \nObjectives\n\nAlign consortium partners on technical and operational priorities\nDefine the roadmap for the Prevent–Monitor–Respond platform architecture\nEstablish governance\, security\, and interoperability principles\n\nKey Discussions\nPartners presented initial concepts for the CI Digital Twin modules\, remote sensing integration strategies\, and the development of the Hybrid NaTech Decision Assessment (HNDA) engine. \nOutcome\nThe meeting concluded with a shared commitment to deliver a trusted\, interoperable\, and secure platform supporting civil protection authorities and critical infrastructure operators across Europe.
URL:https://harmoni-project.eu/event/harmoni-kick-off-meeting-building-the-foundation-for-cross-border-natech-resilience/
ATTACH;FMTTYPE=image/jpeg:https://harmoni-project.eu/wp-content/uploads/2026/02/home-slider.jpg
END:VEVENT
BEGIN:VEVENT
DTSTART;VALUE=DATE:20260212
DTEND;VALUE=DATE:20260213
DTSTAMP:20260421T233836
CREATED:20260226T095007Z
LAST-MODIFIED:20260226T095007Z
UID:6368-1770854400-1770940799@harmoni-project.eu
SUMMARY:Cross-Border Wildfire & Transport Infrastructure Simulation Workshop (Spain – Málaga)
DESCRIPTION:Workshop Focus\nThis technical workshop focused on wildfire-driven disruptions to transport critical infrastructures in the Málaga region. \nDemonstration Scope\n\nSimulation of cascading effects on road and rail networks\nAlternative evacuation routing scenarios\nDigital Twin validation against historical wildfire data\n\nStakeholders Involved\nRegional civil protection authorities\, transport operators\, emergency planners\, and technical experts collaborated to evaluate pre-event preparedness strategies. \nKey Takeaway\nThe session highlighted how predictive modeling enhances prevention and contingency planning before wildfire seasons.
URL:https://harmoni-project.eu/event/cross-border-wildfire-transport-infrastructure-simulation-workshop-spain-malaga/
ATTACH;FMTTYPE=image/jpeg:https://harmoni-project.eu/wp-content/uploads/2026/02/header-image.jpg
END:VEVENT
BEGIN:VEVENT
DTSTART;VALUE=DATE:20260109
DTEND;VALUE=DATE:20260110
DTSTAMP:20260421T233836
CREATED:20260226T095128Z
LAST-MODIFIED:20260226T095128Z
UID:6376-1767916800-1768003199@harmoni-project.eu
SUMMARY:HARMONI Stakeholder Forum & Collaboration Workshop (Greece – Thessaly)
DESCRIPTION:Forum Objective\nThe HARMONI Stakeholder Forum gathered representatives from civil protection agencies\, infrastructure operators\, and research institutions. \nMain Themes\n\nCross-agency data interoperability\nSecure information sharing principles\nEnd-to-end platform demonstration for flood scenarios\n\nCollaboration Outcomes\nParticipants explored pathways for cross-border coordination and integration of national systems into the HARMONI interoperability framework. \nNext Steps\nThe forum concluded with commitments to participate in future training exercises and joint pilot demonstrations.
URL:https://harmoni-project.eu/event/harmoni-stakeholder-forum-collaboration-workshop-greece-thessaly/
ATTACH;FMTTYPE=image/jpeg:https://harmoni-project.eu/wp-content/uploads/2025/04/hm8-bg01.jpg
END:VEVENT
END:VCALENDAR